BEGIN:VCALENDAR
VERSION:2.0
PRODID:-//Manhattan Times Square - ECPv4.9.3.1//NONSGML v1.0//EN
CALSCALE:GREGORIAN
METHOD:PUBLISH
X-WR-CALNAME:Manhattan Times Square
X-ORIGINAL-URL:https://www.manhattan-timessquare.com
X-WR-CALDESC:Events for Manhattan Times Square
BEGIN:VEVENT
DTSTART;VALUE=DATE:20191103
DTEND;VALUE=DATE:20191104
DTSTAMP:20260424T072714
CREATED:20191026T065951Z
LAST-MODIFIED:20191026T070031Z
UID:2746-1572739200-1572825599@www.manhattan-timessquare.com
SUMMARY:Family Fun Day 3
DESCRIPTION:Manhattan Times Square bekerjasama dengan abrakadabra Mengadakan FAMILY FUNDAY 3\, diselenggarakan pada tanggal 03 November 2019 di L3 Manhattan Times Square. Acara ini sangat seru karena diisi berbagai kegiatan dan lomba\, Lomba Bayi Merangkak\, Fashion Ibu & Anak (Balita)\, Foto Ayah & Anak (Balita) @instagram\, Mewarnai Ibu & Anak (TK/PAUD)\, Tari Kreasi Modern (TK/PAUD). Acara ini didukung juga oleh La Miere Baby & Mum Care\nKegiatan ini bagus untuk mendukung kreatifitas anak\, Ayoo saksikan keseruaan FAMILY FUN DAY 3…. \n
URL:https://www.manhattan-timessquare.com/event/family-fun-day-3/
CATEGORIES:Event
ATTACH;FMTTYPE=image/jpeg:https://www.manhattan-timessquare.com/wp-content/uploads/2019/10/Family-Fun-Day-3.jpg
END:VEVENT
END:VCALENDAR