BEGIN:VCALENDAR
VERSION:2.0
PRODID:-//Manhattan Times Square - ECPv4.9.3.1//NONSGML v1.0//EN
CALSCALE:GREGORIAN
METHOD:PUBLISH
X-WR-CALNAME:Manhattan Times Square
X-ORIGINAL-URL:https://www.manhattan-timessquare.com
X-WR-CALDESC:Events for Manhattan Times Square
BEGIN:VEVENT
DTSTART;TZID=UTC+7:20221031T100000
DTEND;TZID=UTC+7:20221106T220000
DTSTAMP:20260421T085554
CREATED:20221028T105815Z
LAST-MODIFIED:20221028T105815Z
UID:3106-1667210400-1667772000@www.manhattan-timessquare.com
SUMMARY:Food Fashion Festival
DESCRIPTION:Manhattan Times Square bekerjasama dengan Matawari Studio Mengadakan Food Fashion Festival\, yang diselenggarakan pada tanggal 31 Oktober – 6 November 2022 mulai pukul 10.00 WIB di Manhattan Times Square L3. Acara ini sangat menarik dan bagus karena akan banyak aktifitas dan kegiatan diacara ini selain Food Bazaar\, seperti : Fashion Show\, Cosplay Competition\, Zumba\, Toys & Hobbies Showcase\, Sempoa Art & Lego Class & Donor Darah\, ayoo saksikan keseruan Food Fashion Festival \n
URL:https://www.manhattan-timessquare.com/event/food-fashion-festival/
LOCATION:Manhattan Times Square – L3
CATEGORIES:Festival
ATTACH;FMTTYPE=image/jpeg:https://www.manhattan-timessquare.com/wp-content/uploads/2022/10/Food-Fashion-Festival-indoor-baru.jpg
END:VEVENT
END:VCALENDAR