BEGIN:VCALENDAR
VERSION:2.0
PRODID:-//Manhattan Times Square - ECPv4.9.3.1//NONSGML v1.0//EN
CALSCALE:GREGORIAN
METHOD:PUBLISH
X-WR-CALNAME:Manhattan Times Square
X-ORIGINAL-URL:https://www.manhattan-timessquare.com
X-WR-CALDESC:Events for Manhattan Times Square
BEGIN:VEVENT
DTSTART;TZID=UTC+7:20220918T100000
DTEND;TZID=UTC+7:20220918T170000
DTSTAMP:20260421T085347
CREATED:20220914T102814Z
LAST-MODIFIED:20220914T102814Z
UID:3031-1663495200-1663520400@www.manhattan-timessquare.com
SUMMARY:Gebyar Anniversary Sempoa SIP Sunggal Ke : 8th
DESCRIPTION:Manhattan Times Square bekerjasama dengan Sempoa SIP Sunggal mengadakan Gebyar Anniversary Sempoa SIP Sunggal Ke :8th\, yang diselenggarakan pada tanggal 18 September 2022 di L3. Acara ini sangat bagus bagi anak dalam mengasah kreatifitas dan bakat anak \n
URL:https://www.manhattan-timessquare.com/event/gebyar-anniversary-sempoa-sip-sunggal-ke-8th/
LOCATION:Manhattan Times Square – L3
CATEGORIES:Kompetisi
ATTACH;FMTTYPE=image/jpeg:https://www.manhattan-timessquare.com/wp-content/uploads/2022/09/Gebyar-Anniversary-Sempoa-SIP-Sunggal-ke-8-.jpeg
END:VEVENT
END:VCALENDAR