BEGIN:VCALENDAR
VERSION:2.0
PRODID:-//Manhattan Times Square - ECPv4.9.3.1//NONSGML v1.0//EN
CALSCALE:GREGORIAN
METHOD:PUBLISH
X-WR-CALNAME:Manhattan Times Square
X-ORIGINAL-URL:https://www.manhattan-timessquare.com
X-WR-CALDESC:Events for Manhattan Times Square
BEGIN:VEVENT
DTSTART;TZID=UTC+7:20191031T130000
DTEND;TZID=UTC+7:20191031T210000
DTSTAMP:20260424T091215
CREATED:20191026T065841Z
LAST-MODIFIED:20191026T065841Z
UID:2742-1572526800-1572555600@www.manhattan-timessquare.com
SUMMARY:Halloween Make Up Art
DESCRIPTION:Manhattan Times Square bekerjasama dengan SMK N 8 Medan Mengadakan HALLOWEEN MAKE UP ART\, diselenggarakan pada tanggal 31 Oktober 2019 mulai pukul 13.00 WIB di L3 Manhattan Times Square. Acara ini sangat seru karena menampilkan Make Up Character Competition dan Fashion Show Make Up Fantasy. Acara ini didukung juga oleh @pkktatakecantikan_ dan Revlon Medan\nAyoo saksikan keseruaan HALLOWEEN MAKE UP ART…. \n
URL:https://www.manhattan-timessquare.com/event/halloween-make-up-art/
CATEGORIES:Event
ATTACH;FMTTYPE=image/jpeg:https://www.manhattan-timessquare.com/wp-content/uploads/2019/10/Halloween-Make-Up-Art.jpg
END:VEVENT
END:VCALENDAR