BEGIN:VCALENDAR
VERSION:2.0
PRODID:-//Manhattan Times Square - ECPv4.9.3.1//NONSGML v1.0//EN
CALSCALE:GREGORIAN
METHOD:PUBLISH
X-WR-CALNAME:Manhattan Times Square
X-ORIGINAL-URL:https://www.manhattan-timessquare.com
X-WR-CALDESC:Events for Manhattan Times Square
BEGIN:VEVENT
DTSTART;VALUE=DATE:20200315
DTEND;VALUE=DATE:20200316
DTSTAMP:20260423T104554
CREATED:20200314T083829Z
LAST-MODIFIED:20200314T083829Z
UID:2796-1584230400-1584316799@www.manhattan-timessquare.com
SUMMARY:Jadilah Pahlawan Donor Darah Sekarang Juga
DESCRIPTION:Lions Club kembali menghadirkan kegiatan Bakti Sosial Donor Darah bekerjasama dengan PMI Kota Medan\, kegiatan ini rutin dilakukan setiap per tiga bulan oleh Lions Club. Acara ini kembali dilaksanakan di Manhattan Times Square bersama Lions Club Medan Angkasa\, Lions Club Cambridge dan Lions Club Medan Angkasa Raya.\nKegiatan Bati Sosial Donor Darah ini bertujuan untuk mendukung PMI kota Medan dalam menyediakan stok Darah di Kota Medan. Kegiatan ini juga bertujuan menghimbau kepada warga kota Medan manfaat serta keuntungan mengikuti kegiatan Donor Darah.\nSementara itu untuk memberikan Apresiasi kepada Para pendonor yang berhasil menyumbangkan darahnya\, para\npendonor akan dibagikan hadiah menarik bagi 100 pendonor pertama. Acara ini digelar pada hari Minggu\, 15 Maret 2020 mulai pukul 09.00 – 14.30 WIB di Lantai 3 manhattan Times Square\nAyo dukung acara bakti sosial donor darah…. \n
URL:https://www.manhattan-timessquare.com/event/jadilah-pahlawan-donor-darah-sekarang-juga/
LOCATION:Manhattan Times Square – L3
CATEGORIES:Event
ATTACH;FMTTYPE=image/jpeg:https://www.manhattan-timessquare.com/wp-content/uploads/2020/03/IMG-20200224-WA0040.jpg
END:VEVENT
END:VCALENDAR