BEGIN:VCALENDAR
VERSION:2.0
PRODID:-//Manhattan Times Square - ECPv4.9.3.1//NONSGML v1.0//EN
CALSCALE:GREGORIAN
METHOD:PUBLISH
X-WR-CALNAME:Manhattan Times Square
X-ORIGINAL-URL:https://www.manhattan-timessquare.com
X-WR-CALDESC:Events for Manhattan Times Square
BEGIN:VEVENT
DTSTART;TZID=UTC+7:20240125T090000
DTEND;TZID=UTC+7:20240125T110000
DTSTAMP:20260423T110202
CREATED:20240125T023602Z
LAST-MODIFIED:20240125T023602Z
UID:3593-1706173200-1706180400@www.manhattan-timessquare.com
SUMMARY:Kids Cooking Class Sanggar Kreativitas Anak Indonesia
DESCRIPTION:Manhattan Times Square bekerjasama dengan Sanggar Kreativitas Anak Indonesia mengadakan Kids Cooking Class\, yang diselenggarakan pada tanggal 25 Januari 2024 di L3. Acara ini sangat seru karena melihat langsung anak-anak dalam memasak. Ayo datang dan saksikan keseruan Kids Cooking Class Sanggar Kreativitas Anak Indonesia. \n
URL:https://www.manhattan-timessquare.com/event/kids-cooking-class-sanggar-kreativitas-anak-indonesia/
LOCATION:Manhattan Times Square – L3
CATEGORIES:Performance
ATTACH;FMTTYPE=image/jpeg:https://www.manhattan-timessquare.com/wp-content/uploads/2024/01/Kids-Cooking-Class-Sanggar-Kreativitas-Anak-Indonesia.jpeg
END:VEVENT
END:VCALENDAR