BEGIN:VCALENDAR
VERSION:2.0
PRODID:-//Manhattan Times Square - ECPv4.9.3.1//NONSGML v1.0//EN
CALSCALE:GREGORIAN
METHOD:PUBLISH
X-WR-CALNAME:Manhattan Times Square
X-ORIGINAL-URL:https://www.manhattan-timessquare.com
X-WR-CALDESC:Events for Manhattan Times Square
BEGIN:VEVENT
DTSTART;TZID=UTC+7:20210222T120000
DTEND;TZID=UTC+7:20210228T210000
DTSTAMP:20260423T162901
CREATED:20210222T033413Z
LAST-MODIFIED:20210222T033413Z
UID:2963-1613995200-1614546000@www.manhattan-timessquare.com
SUMMARY:Kolaborasi Kemanusiaan #TogetherForHumanity
DESCRIPTION:Kolaborasi Kemanusiaan \n#TogetherForHumanity \n  \nManhattan Times Square bersama dengan Human Initiative kembali lagi Mengadakan kegiatan sosial berupa kolaborasi kemanusiaan #TogetherForHumanity\, diselenggarakan pada tanggal 22 -28 Februari 2021 mulai pukul 16.00 WIB di L2 Photobooth Manhattan Times Square. Acara ini bersifat sosial untuk penggalangan dana dan peduli becana di Indonesia\, Acara ini juga tetap mengikuti dan menjalankan protokol kesehatan yang diterapkan di Mall Manhattan Times Square \n
URL:https://www.manhattan-timessquare.com/event/kolaborasi-kemanusiaan-togetherforhumanity/
LOCATION:Manhattan Times Square – L2
CATEGORIES:Bakti Sosial,Charity
ATTACH;FMTTYPE=image/jpeg:https://www.manhattan-timessquare.com/wp-content/uploads/2021/02/Biru-1e.jpg
END:VEVENT
END:VCALENDAR