BEGIN:VCALENDAR
VERSION:2.0
PRODID:-//Manhattan Times Square - ECPv4.9.3.1//NONSGML v1.0//EN
CALSCALE:GREGORIAN
METHOD:PUBLISH
X-WR-CALNAME:Manhattan Times Square
X-ORIGINAL-URL:https://www.manhattan-timessquare.com
X-WR-CALDESC:Events for Manhattan Times Square
BEGIN:VEVENT
DTSTART;TZID=UTC+7:20200308T130000
DTEND;TZID=UTC+7:20200308T170000
DTSTAMP:20260423T142154
CREATED:20200306T031828Z
LAST-MODIFIED:20200306T031828Z
UID:2788-1583672400-1583686800@www.manhattan-timessquare.com
SUMMARY:Lomba Mewarnai Disney Frozen II
DESCRIPTION:Manhattan Times Square bekerjasama dengan Gramedia Mengadakan kegiatan LOMBA MEWARNAI DISNEY FROZEN II \, diselenggarakan pada tanggal 08 Maret 2020 di L2 Manhattan Times Square pada pukul 13.00 WIB. Kegiatan ini sangat bagus untuk mendukung kreatifitas anak. Ayoo saksikan keseruaan anak-anak beradu kreatifitas dalam acara LOMBA MEWARNAI DISNEY FROZEN II \n
URL:https://www.manhattan-timessquare.com/event/lomba-mewarnai-disney-frozen-ii/
CATEGORIES:Event,Kompetisi
ATTACH;FMTTYPE=image/jpeg:https://www.manhattan-timessquare.com/wp-content/uploads/2020/03/IMG-20200220-WA0041-1.jpg
END:VEVENT
END:VCALENDAR