BEGIN:VCALENDAR
VERSION:2.0
PRODID:-//Manhattan Times Square - ECPv4.9.3.1//NONSGML v1.0//EN
CALSCALE:GREGORIAN
METHOD:PUBLISH
X-WR-CALNAME:Manhattan Times Square
X-ORIGINAL-URL:https://www.manhattan-timessquare.com
X-WR-CALDESC:Events for Manhattan Times Square
BEGIN:VEVENT
DTSTART;TZID=UTC+7:20231031T110000
DTEND;TZID=UTC+7:20231031T170000
DTSTAMP:20260421T085106
CREATED:20231018T073336Z
LAST-MODIFIED:20231018T084548Z
UID:3464-1698750000-1698771600@www.manhattan-timessquare.com
SUMMARY:Make Up Character Competition and Fantasy Make Up Show
DESCRIPTION:Manhattan Times Square bekerjasama dengan SMK Negeri 8 Medan Mengadakan Make Up Character Competition dan Fantasy Make Up Show dengan tema “Ghost Queen Of Darkness”\, yang diselenggarakan pada tanggal 31 Oktober 2023 mulai pukul 11.00 WIB di Manhattan Times Square L3. Acara ini sangat bagus dalam mengasah kemampuan para siswa/siswi dalam berkompetisi dan\, ayoo saksikan keseruan para siswa/siswi SMK Negeri 8 Medan menunjukan bakatnya dan kreasinya \n
URL:https://www.manhattan-timessquare.com/event/make-up-character-competition-and-fantasy-make-up-show/
LOCATION:Manhattan Times Square – L3
CATEGORIES:Kompetisi
ATTACH;FMTTYPE=image/jpeg:https://www.manhattan-timessquare.com/wp-content/uploads/2023/10/Make-Up-Competition.jpg
END:VEVENT
END:VCALENDAR