BEGIN:VCALENDAR
VERSION:2.0
PRODID:-//Manhattan Times Square - ECPv4.9.3.1//NONSGML v1.0//EN
CALSCALE:GREGORIAN
METHOD:PUBLISH
X-WR-CALNAME:Manhattan Times Square
X-ORIGINAL-URL:https://www.manhattan-timessquare.com
X-WR-CALDESC:Events for Manhattan Times Square
BEGIN:VEVENT
DTSTART;TZID=UTC+7:20200301T140000
DTEND;TZID=UTC+7:20200301T170000
DTSTAMP:20260423T154923
CREATED:20200227T060427Z
LAST-MODIFIED:20200227T060427Z
UID:2784-1583071200-1583082000@www.manhattan-timessquare.com
SUMMARY:Nobar\, Meet & Greet with Ria Ricis dan Elizabeth Christines
DESCRIPTION:Haloo Medan….\nTeman-teman Medan mana nih suaranya ???\nFilm Aku Tau Kapan Kamu Mati akan ke Medan loooh. Kita ketemu di Manhattan Times Square bersama para cast Ria Ricis dan Elizabeth Chrisitines hari Minggu 1 Maret 2020 jam 2 sore yaaa! Sampai ketemu yaaaa teman-teman Medan. \n
URL:https://www.manhattan-timessquare.com/event/nobar-meet-greet-with-ria-ricis-dan-elizabeth-christines/
CATEGORIES:Event
ATTACH;FMTTYPE=image/jpeg:https://www.manhattan-timessquare.com/wp-content/uploads/2020/02/IMG-20200226-WA0006-1.jpg
END:VEVENT
END:VCALENDAR