BEGIN:VCALENDAR
VERSION:2.0
PRODID:-//Manhattan Times Square - ECPv4.9.3.1//NONSGML v1.0//EN
CALSCALE:GREGORIAN
METHOD:PUBLISH
X-WR-CALNAME:Manhattan Times Square
X-ORIGINAL-URL:https://www.manhattan-timessquare.com
X-WR-CALDESC:Events for Manhattan Times Square
BEGIN:VEVENT
DTSTART;TZID=UTC+7:20191201T110000
DTEND;TZID=UTC+7:20191201T210000
DTSTAMP:20260424T020230
CREATED:20191129T095125Z
LAST-MODIFIED:20191129T095125Z
UID:2756-1575198000-1575234000@www.manhattan-timessquare.com
SUMMARY:Our Vocal Fest "Vocal Competition"
DESCRIPTION:Manhattan Times Square bekerjasama dengan Couple Event Planner mengadakan Vocal Competition\, diselenggarakan pada tanggal 01 Desember 2019 mulai pukul 11.00 WIB di L3 Manhattan Times Square \nKegiatan ini bagus untuk mendukung kreatifitas anak dan rasa percaya diri anak\, ayoo saksikan keseruan anak-anak beradu Kepintaran dalam bernyanyi dalam acara OUR VOCAL FEST “VOCAL COMPETITION” di Mall Manhattan Times Square \n
URL:https://www.manhattan-timessquare.com/event/our-vocal-fest-vocal-competition/
CATEGORIES:Event,Kompetisi
ATTACH;FMTTYPE=image/jpeg:https://www.manhattan-timessquare.com/wp-content/uploads/2019/11/IMG-20191126-WA0031.jpg
END:VEVENT
END:VCALENDAR