BEGIN:VCALENDAR
VERSION:2.0
PRODID:-//Manhattan Times Square - ECPv4.9.3.1//NONSGML v1.0//EN
CALSCALE:GREGORIAN
METHOD:PUBLISH
X-WR-CALNAME:Manhattan Times Square
X-ORIGINAL-URL:https://www.manhattan-timessquare.com
X-WR-CALDESC:Events for Manhattan Times Square
BEGIN:VEVENT
DTSTART;VALUE=DATE:20191207
DTEND;VALUE=DATE:20191209
DTSTAMP:20260423T223532
CREATED:20191206T093902Z
LAST-MODIFIED:20191206T093902Z
UID:2766-1575676800-1575849599@www.manhattan-timessquare.com
SUMMARY:Pameran Karya Seni Rupa Menabur Warna
DESCRIPTION:Manhattan Times Square bekerjasama dengan Aras Community Mengadakan PAMERAN KARYA SENI RUPA MENABUR WARNA\, diselenggarakan pada tanggal 07-08 Desember 2019 di L2 Manhattan Times Square. Acara ini sangat seru karena diisi berbagai pameran Lukisan\, Kriya\, Patumg dan Live Performance\nAyoo saksikan keseruaan PAMERAN KARYA SENI RUPA MENABUR WARNA…. \n
URL:https://www.manhattan-timessquare.com/event/pameran-karya-seni-rupa-menabur-warna/
CATEGORIES:Event
ATTACH;FMTTYPE=image/jpeg:https://www.manhattan-timessquare.com/wp-content/uploads/2019/12/PAMERAN-KARYA-SENI-RUPA-MENABUR-WARNA.jpg
END:VEVENT
END:VCALENDAR