BEGIN:VCALENDAR
VERSION:2.0
PRODID:-//Manhattan Times Square - ECPv4.9.3.1//NONSGML v1.0//EN
CALSCALE:GREGORIAN
METHOD:PUBLISH
X-WR-CALNAME:Manhattan Times Square
X-ORIGINAL-URL:https://www.manhattan-timessquare.com
X-WR-CALDESC:Events for Manhattan Times Square
BEGIN:VEVENT
DTSTART;TZID=UTC+7:20210218T130000
DTEND;TZID=UTC+7:20210218T170000
DTSTAMP:20260423T180842
CREATED:20210217T024024Z
LAST-MODIFIED:20210217T025817Z
UID:2959-1613653200-1613667600@www.manhattan-timessquare.com
SUMMARY:Romantic Modelling Competition
DESCRIPTION:Romantic Modelling Competition \n  \nManhattan Times Square bersama dengan Glowing Entertainment dan Management Modelling School kembali lagi Mengadakan Romantic Modelling Competition\, diselenggarakan pada tanggal 18 Februari 2021 mulai pukul 13.00 WIB di L3 Manhattan Times Square. Acara ini sangat bagus dan menarik\, ayoo saksikan keseruan para peserta dalam menunjukkan kemampuan modelling di Romantic Modelling Competition \n
URL:https://www.manhattan-timessquare.com/event/romantic-modelling-competition/
LOCATION:Manhattan Times Square – L3
CATEGORIES:Kompetisi
ATTACH;FMTTYPE=image/jpeg:https://www.manhattan-timessquare.com/wp-content/uploads/2021/02/Romantic-Modeling-Competition-1.jpg
END:VEVENT
END:VCALENDAR