BEGIN:VCALENDAR
VERSION:2.0
PRODID:-//Manhattan Times Square - ECPv4.9.3.1//NONSGML v1.0//EN
CALSCALE:GREGORIAN
METHOD:PUBLISH
X-WR-CALNAME:Manhattan Times Square
X-ORIGINAL-URL:https://www.manhattan-timessquare.com
X-WR-CALDESC:Events for Manhattan Times Square
BEGIN:VEVENT
DTSTART;TZID=UTC+7:20190928T110000
DTEND;TZID=UTC+7:20190929T210000
DTSTAMP:20260424T162435
CREATED:20190927T113315Z
LAST-MODIFIED:20190927T113315Z
UID:2724-1569668400-1569790800@www.manhattan-timessquare.com
SUMMARY:September Ceria
DESCRIPTION:Manhattan Times Square bekerjasama dengan Nata Music Course Mengadakan Dance\nCompetition dan Manhattan Got Talent\, diselenggarakan pada tanggal 28 – 29 September\n2019 mulai pukul 11.00 WIB di L3 Manhattan Times Square.\nKegiatan ini bagus untuk mendukung kreatifitas anak\, ayoo saksikan petarungan para talent\ndan dancer kota medan di SEPTEMBER CERIA \n
URL:https://www.manhattan-timessquare.com/event/september-ceria/
CATEGORIES:Event
ATTACH;FMTTYPE=image/jpeg:https://www.manhattan-timessquare.com/wp-content/uploads/2019/09/September-Ceria.jpg
END:VEVENT
END:VCALENDAR