BEGIN:VCALENDAR
VERSION:2.0
PRODID:-//Manhattan Times Square - ECPv4.9.3.1//NONSGML v1.0//EN
CALSCALE:GREGORIAN
METHOD:PUBLISH
X-WR-CALNAME:Manhattan Times Square
X-ORIGINAL-URL:https://www.manhattan-timessquare.com
X-WR-CALDESC:Events for Manhattan Times Square
BEGIN:VEVENT
DTSTART;TZID=UTC+7:20241103T090000
DTEND;TZID=UTC+7:20241103T180000
DTSTAMP:20260419T172924
CREATED:20241101T083053Z
LAST-MODIFIED:20241101T083053Z
UID:3873-1730624400-1730656800@www.manhattan-timessquare.com
SUMMARY:Talent Show Dance Sport IODI Kota Medan
DESCRIPTION:Manhattan Times Square bekerjasama dengan IODI Kota Medan  mengadakan Talent Show Dance Sport\, yang diselenggarakan pada tanggal 3 November 2024 mulai pukul 09.00 WIB di Manhattan Times Square-L3. Ayoo saksikan keseruan para penari menunjukan bakat nya dalam Talent Show Dance Sport IODI Kota Medan \n
URL:https://www.manhattan-timessquare.com/event/talent-show-dance-sport-iodi-kota-medan/
LOCATION:Manhattan Times Square – L3
CATEGORIES:Event
ATTACH;FMTTYPE=image/jpeg:https://www.manhattan-timessquare.com/wp-content/uploads/2024/11/IODI.jpeg
END:VEVENT
END:VCALENDAR