BEGIN:VCALENDAR
VERSION:2.0
PRODID:-//Manhattan Times Square - ECPv4.9.3.1//NONSGML v1.0//EN
CALSCALE:GREGORIAN
METHOD:PUBLISH
X-WR-CALNAME:Manhattan Times Square
X-ORIGINAL-URL:https://www.manhattan-timessquare.com
X-WR-CALDESC:Events for Manhattan Times Square
BEGIN:VEVENT
DTSTART;TZID=UTC+7:20260426T110000
DTEND;TZID=UTC+7:20260426T190000
DTSTAMP:20260424T111448
CREATED:20260424T043847Z
LAST-MODIFIED:20260424T043847Z
UID:4091-1777201200-1777230000@www.manhattan-timessquare.com
SUMMARY:Women Leader Festival 2026
DESCRIPTION:Manhattan Times Square bekerjasama PERPINA Sumatera Utara\, IWAPI\, Lions Club\, Aura Indonesia dan didukung penuh oleh KADIN Sumatera Utara mengadakan event Women Leader Festival 2026 yang diselenggarakan pada tanggal 26 Mei 2026 di Atrium – Mall Manhattan Times Square. Eventnya sangat seru karena terdiri dari berbagai rangkaian acara\, sepert: Lomba Fshion Show & Talkshow. Ayoo saksikan keseruan event Women Leader Festival 2026. \n
URL:https://www.manhattan-timessquare.com/event/women-leader-festival-2026/
LOCATION:Manhattan Times Square – Atrium GF
CATEGORIES:Event
ATTACH;FMTTYPE=image/jpeg:https://www.manhattan-timessquare.com/wp-content/uploads/2026/04/Women-Leader-Festival-2026.jpeg
END:VEVENT
END:VCALENDAR