BEGIN:VCALENDAR
VERSION:2.0
PRODID:-//Manhattan Times Square - ECPv4.9.3.1//NONSGML v1.0//EN
CALSCALE:GREGORIAN
METHOD:PUBLISH
X-WR-CALNAME:Manhattan Times Square
X-ORIGINAL-URL:https://www.manhattan-timessquare.com
X-WR-CALDESC:Events for Manhattan Times Square
BEGIN:VEVENT
DTSTART;VALUE=DATE:20200215
DTEND;VALUE=DATE:20200216
DTSTAMP:20260423T184835
CREATED:20200213T075455Z
LAST-MODIFIED:20200213T075525Z
UID:2776-1581724800-1581811199@www.manhattan-timessquare.com
SUMMARY:Wonderful Indonesia
DESCRIPTION:THE END EDUCATION IS CHARACTER\nManhattan Times Square bekerjasama dengan Yayasan Perguruan Mayjend Sutoyo SM Mengadakan event Wonderful Indonesia – The End Education is Character\, diselenggarakan pada tanggal 15 Februari 2020 di L3 Manhattan Times Square. Acara ini sangat seru karena diisi berbagai lomba\, seperti lomba Mewarnai & Fashion Show. Dan menampilkan kegiatan-kegiatan yang sangat seru dan mengedukasi\, seperti Choir\, Angklung\, Band\, Vocal Solo\, Beatbox\, Cosplay\, Dance\, Standup Comedy\, Pameran Lukisan\, Kuis dan Speech & Poetry\nAyoo saksikan keseruaan\nWONDERFUL INDONESIA – THE END EDUCATION IS CHARACTER…. \n
URL:https://www.manhattan-timessquare.com/event/wonderful-indonesia/
CATEGORIES:Event
ATTACH;FMTTYPE=image/jpeg:https://www.manhattan-timessquare.com/wp-content/uploads/2020/02/IMG-20200210-WA0047.jpg
END:VEVENT
END:VCALENDAR